View In:
ArcGIS JavaScript
ArcGIS Online Map Viewer
ArcGIS Earth
Service Description: Imagery/Aerial2025_cache_test
Name: Imagery/Aerial2025_cache_test
Description:
Single Fused Map Cache: true
Tile Info:
- Height: 256
- Width: 256
- DPI: 96
-
Levels of Detail: 24
-
Level ID: 0
[ Start Tile, End Tile ]
- Resolution: 948726.2560789832
- Scale: 1.0929348328726544E9
-
Level ID: 1
[ Start Tile, End Tile ]
- Resolution: 474363.1280394916
- Scale: 5.464674164363272E8
-
Level ID: 2
[ Start Tile, End Tile ]
- Resolution: 237181.5640197458
- Scale: 2.732337082181636E8
-
Level ID: 3
[ Start Tile, End Tile ]
- Resolution: 118590.7820098729
- Scale: 1.366168541090818E8
-
Level ID: 4
[ Start Tile, End Tile ]
- Resolution: 59295.39100493645
- Scale: 6.83084270545409E7
-
Level ID: 5
[ Start Tile, End Tile ]
- Resolution: 29647.695502468225
- Scale: 3.415421352727045E7
-
Level ID: 6
[ Start Tile, End Tile ]
- Resolution: 14823.847751234112
- Scale: 1.7077106763635226E7
-
Level ID: 7
[ Start Tile, End Tile ]
- Resolution: 7411.923875617056
- Scale: 8538553.381817613
-
Level ID: 8
[ Start Tile, End Tile ]
- Resolution: 3705.961937808528
- Scale: 4269276.690908806
-
Level ID: 9
[ Start Tile, End Tile ]
- Resolution: 1852.980968904264
- Scale: 2134638.345454403
-
Level ID: 10
[ Start Tile, End Tile ]
- Resolution: 926.490484452132
- Scale: 1067319.1727272016
-
Level ID: 11
[ Start Tile, End Tile ]
- Resolution: 463.245242226066
- Scale: 533659.5863636008
-
Level ID: 12
[ Start Tile, End Tile ]
- Resolution: 231.622621113033
- Scale: 266829.7931818004
-
Level ID: 13
[ Start Tile, End Tile ]
- Resolution: 115.8113105565165
- Scale: 133414.8965909002
-
Level ID: 14
[ Start Tile, End Tile ]
- Resolution: 57.90565527825825
- Scale: 66707.4482954501
-
Level ID: 15
[ Start Tile, End Tile ]
- Resolution: 28.952827639129126
- Scale: 33353.72414772505
-
Level ID: 16
[ Start Tile, End Tile ]
- Resolution: 14.476413819564563
- Scale: 16676.862073862525
-
Level ID: 17
[ Start Tile, End Tile ]
- Resolution: 7.238206909782281
- Scale: 8338.431036931262
-
Level ID: 18
[ Start Tile, End Tile ]
- Resolution: 3.6191034548911407
- Scale: 4169.215518465631
-
Level ID: 19
[ Start Tile, End Tile ]
- Resolution: 1.8095517274455704
- Scale: 2084.6077592328156
-
Level ID: 20
[ Start Tile, End Tile ]
- Resolution: 0.9047758637227852
- Scale: 1042.3038796164078
-
Level ID: 21
[ Start Tile, End Tile ]
- Resolution: 0.4523879318613926
- Scale: 521.1519398082039
-
Level ID: 22
[ Start Tile, End Tile ]
- Resolution: 0.2261939659306963
- Scale: 260.57596990410195
-
Level ID: 23
[ Start Tile, End Tile ]
- Resolution: 0.11309698296534815
- Scale: 130.28798495205098
- Format: JPEG
- Compression Quality: 75.0
- LERC Error: NaN
- Origin: X: -1.1979654411144319E8
Y: 1.1889610745162956E8
- Spatial Reference: 103170
(6625)
LatestVCSWkid(0)
Storage Info:
- Storage Format: esriMapCacheStorageModeCompactV2
- Packet Size: 128
Extent:
XMin: 1474044.8885568082
YMin: 7355200.009597287
XMax: 1533299.8885568082
YMax: 7381900.009597287
Spatial Reference: 103170
(6625)
LatestVCSWkid(0)
Initial Extent:
XMin: 1474044.8885568082
YMin: 7355200.009597287
XMax: 1533299.8885568082
YMax: 7381900.009597287
Spatial Reference: 103170
(6625)
LatestVCSWkid(0)
Full Extent:
XMin: 1474044.8885568082
YMin: 7355200.009597287
XMax: 1533299.8885568082
YMax: 7381900.009597287
Spatial Reference: 103170
(6625)
LatestVCSWkid(0)
Pixel Size X: 0.25
Pixel Size Y: 0.25
Band Count: 5
Pixel Type: U8
RasterFunction Infos: {"rasterFunctionInfos": [{
"name": "None",
"description": "",
"help": ""
}]}
Mensuration Capabilities: Basic
Inspection Capabilities:
Has Histograms: true
Has Colormap: false
Has Multi Dimensions : false
Rendering Rule:
Min Scale: 16676.862073862525
Max Scale: 130.28798495205098
Min LOD: 16
Max LOD: 23
Copyright Text:
Service Data Type: esriImageServiceDataTypeGeneric
Min Values: 0, 0, 0, 0, 0
Max Values: 255, 255, 255, 255, 255
Mean Values: 137.75218089319054, 130.18806577399985, 118.78063836908849, 157.7314052572817, 254.99996263231037
Standard Deviation Values: 44.067212863347464, 41.62114412329794, 40.58470599760222, 38.74792888777942, 0.09761536488403631
Object ID Field:
Fields:
None
Default Mosaic Method: Center
Allowed Mosaic Methods:
SortField:
SortValue: null
Mosaic Operator: First
Default Compression Quality: 75
Default Resampling Method: Bilinear
Max Record Count: null
Max Image Height: 4100
Max Image Width: 15000
Max Download Image Count: null
Max Mosaic Image Count: null
Allow Raster Function: true
Allow Copy: true
Allow Analysis: true
Allow Compute TiePoints: false
Supports Statistics: false
Supports Advanced Queries: false
Use StandardizedQueries: true
Raster Type Infos:
Name: Raster Dataset
Description: Supports all ArcGIS Raster Datasets
Help:
Has Raster Attribute Table: false
Edit Fields Info: null
Ownership Based AccessControl For Rasters: null
Child Resources:
Info
Histograms
Statistics
Key Properties
Legend
Raster Function Infos
Supported Operations:
Export Image
Identify
Measure
Compute Histograms
Compute Statistics Histograms
Get Samples
Compute Class Statistics
Query Boundary
Compute Pixel Location
Compute Angles
Validate
Project
EstimateExportTilesSize
ExportTiles