{
 "currentVersion": 11.5,
 "serviceDescription": "Imagery/Aerial2025_cache_test",
 "name": "Imagery/Aerial2025_cache_test",
 "description": "",
 "extent": {
  "xmin": 1474044.8885568082,
  "ymin": 7355200.009597287,
  "xmax": 1533299.8885568082,
  "ymax": 7381900.009597287,
  "spatialReference": {
   "wkid": 103170,
   "latestWkid": 6625
  }
 },
 "initialExtent": {
  "xmin": 1474044.8885568082,
  "ymin": 7355200.009597287,
  "xmax": 1533299.8885568082,
  "ymax": 7381900.009597287,
  "spatialReference": {
   "wkid": 103170,
   "latestWkid": 6625
  }
 },
 "fullExtent": {
  "xmin": 1474044.8885568082,
  "ymin": 7355200.009597287,
  "xmax": 1533299.8885568082,
  "ymax": 7381900.009597287,
  "spatialReference": {
   "wkid": 103170,
   "latestWkid": 6625
  }
 },
 "sortableFields": "",
 "bandCount": 5,
 "pixelType": "U8",
 "minValues": [
  0,
  0,
  0,
  0,
  0
 ],
 "maxValues": [
  255,
  255,
  255,
  255,
  255
 ],
 "meanValues": [
  137.75218089319054,
  130.18806577399985,
  118.78063836908849,
  157.7314052572817,
  254.99996263231037
 ],
 "stdvValues": [
  44.067212863347464,
  41.62114412329794,
  40.58470599760222,
  38.74792888777942,
  0.09761536488403631
 ],
 "serviceProperties": "Center<\/MosaicMethod>First<\/MosaicOperator>true<\/SortAscending><\/LockImageID><\/TileOrderField>0<\/TileOrderBase>0.000000<\/AvgImageSpacingX>0.000000<\/AvgImageSpacingY>0.0<\/ViewPointX>0.0<\/ViewPointY>0.0<\/ViewPointDefShiftX>0.0<\/ViewPointDefShiftY>None<\/CompressionMethod>75<\/CompressionQuality>0.010000<\/CompressionTolerance>Bilinear<\/SamplingMethod><\/ImageServiceProperties><\/ImageServer>",
 "allowedFields": "",
 "hasMultidimensions": false,
 "pixelSizeX": 0.25,
 "pixelSizeY": 0.25,
 "meanPixelSize": 0.07620015240030481,
 "datasetFormat": "SDR",
 "uncompressedSize": 126568680000,
 "blockWidth": 128,
 "blockHeight": 128,
 "compressionType": "LZ77",
 "bandNames": [
  "Band_1",
  "Band_2",
  "Band_3",
  "Band_4",
  "Band_5"
 ],
 "allowCopy": true,
 "allowAnalysis": true,
 "itemAccess": false,
 "inspectionCapabilities": "",
 "minPixelSize": 0.11309698296534815,
 "maxPixelSize": 14.476413819564563,
 "copyrightText": "",
 "serviceDataType": "esriImageServiceDataTypeGeneric",
 "serviceSourceType": "esriImageServiceSourceTypeDataset",
 "objectIdField": "",
 "fields": [],
 "capabilities": "Image,Metadata,Mensuration",
 "defaultMosaicMethod": "Center",
 "allowedMosaicMethods": "",
 "sortField": "",
 "sortValue": null,
 "sortAscending": true,
 "mosaicOperator": "First",
 "defaultCompressionQuality": 75,
 "defaultResamplingMethod": "Bilinear",
 "maxImageHeight": 4100,
 "maxImageWidth": 15000,
 "singleFusedMapCache": true,
 "tileInfo": {
  "rows": 256,
  "cols": 256,
  "dpi": 96,
  "format": "JPEG",
  "compressionQuality": 75,
  "origin": {
   "x": -1.1979654411144319E8,
   "y": 1.1889610745162956E8
  },
  "spatialReference": {
   "wkid": 103170,
   "latestWkid": 6625
  },
  "lods": [
   {
    "level": 0,
    "resolution": 948726.2560789832,
    "scale": 1.0929348328726544E9
   },
   {
    "level": 1,
    "resolution": 474363.1280394916,
    "scale": 5.464674164363272E8
   },
   {
    "level": 2,
    "resolution": 237181.5640197458,
    "scale": 2.732337082181636E8
   },
   {
    "level": 3,
    "resolution": 118590.7820098729,
    "scale": 1.366168541090818E8
   },
   {
    "level": 4,
    "resolution": 59295.39100493645,
    "scale": 6.83084270545409E7
   },
   {
    "level": 5,
    "resolution": 29647.695502468225,
    "scale": 3.415421352727045E7
   },
   {
    "level": 6,
    "resolution": 14823.847751234112,
    "scale": 1.7077106763635226E7
   },
   {
    "level": 7,
    "resolution": 7411.923875617056,
    "scale": 8538553.381817613
   },
   {
    "level": 8,
    "resolution": 3705.961937808528,
    "scale": 4269276.690908806
   },
   {
    "level": 9,
    "resolution": 1852.980968904264,
    "scale": 2134638.345454403
   },
   {
    "level": 10,
    "resolution": 926.490484452132,
    "scale": 1067319.1727272016
   },
   {
    "level": 11,
    "resolution": 463.245242226066,
    "scale": 533659.5863636008
   },
   {
    "level": 12,
    "resolution": 231.622621113033,
    "scale": 266829.7931818004
   },
   {
    "level": 13,
    "resolution": 115.8113105565165,
    "scale": 133414.8965909002
   },
   {
    "level": 14,
    "resolution": 57.90565527825825,
    "scale": 66707.4482954501
   },
   {
    "level": 15,
    "resolution": 28.952827639129126,
    "scale": 33353.72414772505
   },
   {
    "level": 16,
    "resolution": 14.476413819564563,
    "scale": 16676.862073862525
   },
   {
    "level": 17,
    "resolution": 7.238206909782281,
    "scale": 8338.431036931262
   },
   {
    "level": 18,
    "resolution": 3.6191034548911407,
    "scale": 4169.215518465631
   },
   {
    "level": 19,
    "resolution": 1.8095517274455704,
    "scale": 2084.6077592328156
   },
   {
    "level": 20,
    "resolution": 0.9047758637227852,
    "scale": 1042.3038796164078
   },
   {
    "level": 21,
    "resolution": 0.4523879318613926,
    "scale": 521.1519398082039
   },
   {
    "level": 22,
    "resolution": 0.2261939659306963,
    "scale": 260.57596990410195
   },
   {
    "level": 23,
    "resolution": 0.11309698296534815,
    "scale": 130.28798495205098
   }
  ]
 },
 "storageInfo": {
  "storageFormat": "esriMapCacheStorageModeCompactV2",
  "packetSize": 128
 },
 "cacheType": "Map",
 "allowRasterFunction": true,
 "rasterFunctionInfos": [
  {
   "name": "None",
   "description": "",
   "help": ""
  }
 ],
 "rasterTypeInfos": [
  {
   "name": "Raster Dataset",
   "description": "Supports all ArcGIS Raster Datasets",
   "help": ""
  }
 ],
 "mensurationCapabilities": "Basic",
 "hasHistograms": true,
 "hasColormap": false,
 "hasRasterAttributeTable": false,
 "minScale": 16676.862073862525,
 "maxScale": 130.28798495205098,
 "minLOD": 16,
 "maxLOD": 23,
 "exportTilesAllowed": true,
 "maxExportTilesCount": 100000,
 "supportsStatistics": false,
 "supportsAdvancedQueries": false,
 "editFieldsInfo": null,
 "ownershipBasedAccessControlForRasters": null,
 "allowComputeTiePoints": false,
 "useStandardizedQueries": true,
 "advancedQueryCapabilities": {
  "useStandardizedQueries": true,
  "supportsStatistics": false,
  "supportsOrderBy": false,
  "supportsDistinct": false,
  "supportsPagination": false
 },
 "spatialReference": {
  "wkid": 103170,
  "latestWkid": 6625
 }
}
