View In:
ArcGIS JavaScript
ArcGIS Online Map Viewer
ArcGIS Earth
Service Description: Imagery/SJC_IMAGES_SDE_Aerial2025_c
Name: Imagery/SJC_IMAGES_SDE_Aerial2025_c
Description:
Single Fused Map Cache: true
Tile Info:
- Height: 256
- Width: 256
- DPI: 96
-
Levels of Detail: 10
- Format: MIXED
- Compression Quality: 75.0
- LERC Error: NaN
- Origin: X: -1.197969E8
Y: 1.536625E8
- Spatial Reference: 103170
(6625)
LatestVCSWkid(0)
Storage Info:
- Storage Format: esriMapCacheStorageModeCompactV2
- Packet Size: 128
Extent:
XMin: 1474044.8885568082
YMin: 7355200.009597287
XMax: 1533299.8885568082
YMax: 7381900.009597287
Spatial Reference: 103170
(6625)
LatestVCSWkid(0)
Initial Extent:
XMin: 1474044.8885568082
YMin: 7355200.009597287
XMax: 1533299.8885568082
YMax: 7381900.009597287
Spatial Reference: 103170
(6625)
LatestVCSWkid(0)
Full Extent:
XMin: 1474044.8885568082
YMin: 7355200.009597287
XMax: 1533299.8885568082
YMax: 7381900.009597287
Spatial Reference: 103170
(6625)
LatestVCSWkid(0)
Pixel Size X: 0.25
Pixel Size Y: 0.25
Band Count: 5
Pixel Type: U8
RasterFunction Infos: {"rasterFunctionInfos": [{
"name": "None",
"description": "",
"help": ""
}]}
Mensuration Capabilities: Basic
Inspection Capabilities:
Has Histograms: true
Has Colormap: false
Has Multi Dimensions : false
Rendering Rule:
Min Scale: 125000
Max Scale: 250
Min LOD: 0
Max LOD: 9
Copyright Text:
Service Data Type: esriImageServiceDataTypeGeneric
Min Values: 0, 0, 0, 0, 0
Max Values: 255, 255, 255, 255, 255
Mean Values: 137.75218089319054, 130.18806577399985, 118.78063836908849, 157.7314052572817, 254.99996263231037
Standard Deviation Values: 44.067212863347464, 41.62114412329794, 40.58470599760222, 38.74792888777942, 0.09761536488403631
Object ID Field:
Fields:
None
Default Mosaic Method: Center
Allowed Mosaic Methods:
SortField:
SortValue: null
Mosaic Operator: First
Default Compression Quality: 75
Default Resampling Method: Bilinear
Max Record Count: null
Max Image Height: 4100
Max Image Width: 15000
Max Download Image Count: null
Max Mosaic Image Count: null
Allow Raster Function: true
Allow Copy: true
Allow Analysis: true
Allow Compute TiePoints: false
Supports Statistics: false
Supports Advanced Queries: false
Use StandardizedQueries: true
Raster Type Infos:
Name: Raster Dataset
Description: Supports all ArcGIS Raster Datasets
Help:
Has Raster Attribute Table: false
Edit Fields Info: null
Ownership Based AccessControl For Rasters: null
Child Resources:
Info
Histograms
Statistics
Key Properties
Legend
Raster Function Infos
Supported Operations:
Export Image
Identify
Measure
Compute Histograms
Compute Statistics Histograms
Get Samples
Compute Class Statistics
Query Boundary
Compute Pixel Location
Compute Angles
Validate
Project