View In:
ArcGIS JavaScript
ArcGIS Online Map Viewer
ArcGIS Earth
Service Description: SJC Aerial, April 2024
Name: Imagery/SJC_Aerial2024
Description: SJC Aerial, April 2024
Single Fused Map Cache: false
Extent:
XMin: 1474044.8885573
YMin: 7355200.0095957965
XMax: 1533299.8885573
YMax: 7381900.0095957965
Spatial Reference: 103170
(6625)
LatestVCSWkid(0)
Initial Extent:
XMin: 1474044.8885573
YMin: 7355200.0095957965
XMax: 1533299.8885573
YMax: 7381900.0095957965
Spatial Reference: 103170
(6625)
LatestVCSWkid(0)
Full Extent:
XMin: 1474044.8885573
YMin: 7355200.0095957965
XMax: 1533299.8885573
YMax: 7381900.0095957965
Spatial Reference: 103170
(6625)
LatestVCSWkid(0)
Pixel Size X: 0.25
Pixel Size Y: 0.25
Band Count: 4
Pixel Type: U8
RasterFunction Infos: {"rasterFunctionInfos": [{
"name": "None",
"description": "",
"help": ""
}]}
Mensuration Capabilities: Basic
Inspection Capabilities:
Has Histograms: true
Has Colormap: false
Has Multi Dimensions : false
Rendering Rule:
Min Scale: 0
Max Scale: 0
Copyright Text:
Service Data Type: esriImageServiceDataTypeGeneric
Min Values: 20, 11, 0, 0
Max Values: 255, 255, 255, 255
Mean Values: 136.53378294505123, 131.82038100126013, 127.15822839501476, 135.03307324007656
Standard Deviation Values: 43.79040392801734, 42.714093278671605, 42.283152849452556, 43.418914166566374
Object ID Field:
Fields:
None
Default Mosaic Method: Center
Allowed Mosaic Methods:
SortField:
SortValue: null
Mosaic Operator: First
Default Compression Quality: 75
Default Resampling Method: Bilinear
Max Record Count: null
Max Image Height: 4100
Max Image Width: 15000
Max Download Image Count: null
Max Mosaic Image Count: null
Allow Raster Function: true
Allow Copy: true
Allow Analysis: true
Allow Compute TiePoints: false
Supports Statistics: false
Supports Advanced Queries: false
Use StandardizedQueries: true
Raster Type Infos:
Name: Raster Dataset
Description: Supports all ArcGIS Raster Datasets
Help:
Has Raster Attribute Table: false
Edit Fields Info: null
Ownership Based AccessControl For Rasters: null
Child Resources:
Info
Histograms
Statistics
Key Properties
Legend
Raster Function Infos
Supported Operations:
Export Image
Identify
Measure
Compute Histograms
Compute Statistics Histograms
Get Samples
Compute Class Statistics
Query Boundary
Compute Pixel Location
Compute Angles
Validate
Project