{
 "currentVersion": 11.5,
 "serviceDescription": "SJC aerial 2025 - service without tiling scheme",
 "name": "Imagery/SJC_Aerial_2025_dynamic",
 "description": "SJC aerial 2025 - service without tiling scheme",
 "extent": {
  "xmin": 1474044.8885568082,
  "ymin": 7355200.009597287,
  "xmax": 1533299.8885568082,
  "ymax": 7381900.009597287,
  "spatialReference": {
   "wkid": 103170,
   "latestWkid": 6625
  }
 },
 "initialExtent": {
  "xmin": 1474044.8885568082,
  "ymin": 7355200.009597287,
  "xmax": 1533299.8885568082,
  "ymax": 7381900.009597287,
  "spatialReference": {
   "wkid": 103170,
   "latestWkid": 6625
  }
 },
 "fullExtent": {
  "xmin": 1474044.8885568082,
  "ymin": 7355200.009597287,
  "xmax": 1533299.8885568082,
  "ymax": 7381900.009597287,
  "spatialReference": {
   "wkid": 103170,
   "latestWkid": 6625
  }
 },
 "sortableFields": "",
 "bandCount": 5,
 "pixelType": "U8",
 "minValues": [
  0,
  0,
  0,
  0,
  0
 ],
 "maxValues": [
  255,
  255,
  255,
  255,
  255
 ],
 "meanValues": [
  137.75218089319054,
  130.18806577399985,
  118.78063836908849,
  157.7314052572817,
  254.99996263231037
 ],
 "stdvValues": [
  44.067212863347464,
  41.62114412329794,
  40.58470599760222,
  38.74792888777942,
  0.09761536488403631
 ],
 "serviceProperties": "Center<\/MosaicMethod>First<\/MosaicOperator>true<\/SortAscending><\/LockImageID><\/TileOrderField>0<\/TileOrderBase>0.000000<\/AvgImageSpacingX>0.000000<\/AvgImageSpacingY>0.0<\/ViewPointX>0.0<\/ViewPointY>0.0<\/ViewPointDefShiftX>0.0<\/ViewPointDefShiftY>None<\/CompressionMethod>75<\/CompressionQuality>0.010000<\/CompressionTolerance>Bilinear<\/SamplingMethod><\/ImageServiceProperties><\/ImageServer>",
 "allowedFields": "",
 "hasMultidimensions": false,
 "pixelSizeX": 0.25,
 "pixelSizeY": 0.25,
 "meanPixelSize": 0.07620015240030481,
 "datasetFormat": "SDR",
 "uncompressedSize": 126568680000,
 "blockWidth": 128,
 "blockHeight": 128,
 "compressionType": "LZ77",
 "bandNames": [
  "Band_1",
  "Band_2",
  "Band_3",
  "Band_4",
  "Band_5"
 ],
 "allowCopy": true,
 "allowAnalysis": true,
 "itemAccess": false,
 "inspectionCapabilities": "",
 "minPixelSize": 0,
 "maxPixelSize": 0,
 "copyrightText": "",
 "serviceDataType": "esriImageServiceDataTypeGeneric",
 "serviceSourceType": "esriImageServiceSourceTypeDataset",
 "objectIdField": "",
 "fields": [],
 "capabilities": "Image,Metadata,Mensuration",
 "defaultMosaicMethod": "Center",
 "allowedMosaicMethods": "",
 "sortField": "",
 "sortValue": null,
 "sortAscending": true,
 "mosaicOperator": "First",
 "defaultCompressionQuality": 75,
 "defaultResamplingMethod": "Bilinear",
 "maxImageHeight": 4100,
 "maxImageWidth": 15000,
 "allowRasterFunction": true,
 "rasterFunctionInfos": [
  {
   "name": "None",
   "description": "",
   "help": ""
  }
 ],
 "rasterTypeInfos": [
  {
   "name": "Raster Dataset",
   "description": "Supports all ArcGIS Raster Datasets",
   "help": ""
  }
 ],
 "mensurationCapabilities": "Basic",
 "hasHistograms": true,
 "hasColormap": false,
 "hasRasterAttributeTable": false,
 "minScale": 0,
 "maxScale": 0,
 "exportTilesAllowed": false,
 "supportsStatistics": false,
 "supportsAdvancedQueries": false,
 "editFieldsInfo": null,
 "ownershipBasedAccessControlForRasters": null,
 "allowComputeTiePoints": false,
 "useStandardizedQueries": true,
 "advancedQueryCapabilities": {
  "useStandardizedQueries": true,
  "supportsStatistics": false,
  "supportsOrderBy": false,
  "supportsDistinct": false,
  "supportsPagination": false
 },
 "spatialReference": {
  "wkid": 103170,
  "latestWkid": 6625
 }
}
